BEGIN:VCALENDAR
VERSION:2.0
PRODID:-//Chicago Committee On High Rise Buildings - ECPv6.15.20//NONSGML v1.0//EN
CALSCALE:GREGORIAN
METHOD:PUBLISH
X-ORIGINAL-URL:https://www.cchrb.org
X-WR-CALDESC:Events for Chicago Committee On High Rise Buildings
REFRESH-INTERVAL;VALUE=DURATION:PT1H
X-Robots-Tag:noindex
X-PUBLISHED-TTL:PT1H
BEGIN:VTIMEZONE
TZID:America/Chicago
BEGIN:DAYLIGHT
TZOFFSETFROM:-0600
TZOFFSETTO:-0500
TZNAME:CDT
DTSTART:20250309T080000
END:DAYLIGHT
BEGIN:STANDARD
TZOFFSETFROM:-0500
TZOFFSETTO:-0600
TZNAME:CST
DTSTART:20251102T070000
END:STANDARD
BEGIN:DAYLIGHT
TZOFFSETFROM:-0600
TZOFFSETTO:-0500
TZNAME:CDT
DTSTART:20260308T080000
END:DAYLIGHT
BEGIN:STANDARD
TZOFFSETFROM:-0500
TZOFFSETTO:-0600
TZNAME:CST
DTSTART:20261101T070000
END:STANDARD
BEGIN:DAYLIGHT
TZOFFSETFROM:-0600
TZOFFSETTO:-0500
TZNAME:CDT
DTSTART:20270314T080000
END:DAYLIGHT
BEGIN:STANDARD
TZOFFSETFROM:-0500
TZOFFSETTO:-0600
TZNAME:CST
DTSTART:20271107T070000
END:STANDARD
END:VTIMEZONE
BEGIN:VEVENT
DTSTART;TZID=America/Chicago:20260409T170000
DTEND;TZID=America/Chicago:20260409T210000
DTSTAMP:20260419T130016
CREATED:20251201T192724Z
LAST-MODIFIED:20260401T170230Z
UID:2241-1775754000-1775768400@www.cchrb.org
SUMMARY:2026 April 400 Lake Shore - Site Tour
DESCRIPTION:Job Site Tour of 400 Lake Shore  \nhosted by:  \n\nLucas Tryggestad\, Technical Principal at Skidmore Owings & Merrill LLP (SOM)\nEric Pasche\, Associate Principal at Skidmore\, Owings & Merrill LLP (SOM) \nAustin Devin PhD\, PE\, Associate Structural Engineer\,  Skidmore Owings & Merrill LLP (SOM)\nBrad Young\, Senior Associate Principal at Skidmore\, Owings & Merrill (SOM)\nMorgan Michicich\,  Assistant Project Manager\, Related Midwest\n\nOur monthly meeting will be a job site tour of 400 Lake Shore Dr. \nAttendees will be guided through the site in small groups. This is an active job site and so PPE is required at all times and will be distributed at 462 E North Water St prior to entering the site. Open-toed shoes are not permitted; work boots are strongly recommended. The tour will be led by Skidmore\, Owings & Merrill’s Lucas Tryggestad (Principal)\, Eric Pasche (Associate Principal)\, Brad Young (Senior Associate Principal)\, and Austin Devin (Associate Engineer).  Morgan Michicich of Related Midwest will be the on-site point of contact. \nDesigned by SOM and developed by Related Midwest\, the project is a large-scale residential development on the Chicago lakefront. Additional information on the project can be found via Related Midwest and Skidmore\, Owings & Merrill . \nRSVP IS REQUIRED TO ATTEND THE SITE TOUR. \nThis meeting will take place at: \n400 Lake Shore Drive (for google maps or uber use)\n462 E. North Water street.\nChicago\, IL 60611 \nThe committee meeting will start at the usual time 5:00 pm in the job-site trailer tour start at 5:30 pm we will re-group and gather for social discussion at Lizzie McNeill’s Irish Pub (400 N McClurg Ct\, Chicago\, IL 60611) directly after the tour ends. \nDo you have a program you would like to share with the committee\, please feel free to reach out to our program coordinator at jose.estrada@clarkdietrich.com
URL:https://www.cchrb.org/event/2026-april-in-person-meeting/
LOCATION:400 Lake Shore Dr.\, 462 E North Water St\, Chicago\, IL\, 60611\, United States
CATEGORIES:Member Event
ATTACH;FMTTYPE=image/jpeg:https://www.cchrb.org/wp-content/uploads/2025/12/400LSD_construction_SOM_002_SD_Preferred-Crop_large-scaled-e1774644982255.jpg
END:VEVENT
END:VCALENDAR